View In:
ArcGIS JavaScript
ArcGIS Online map viewer
Google Earth
ArcMap
ArcGIS Explorer
View Footprint In:
ArcGIS Online map viewer
Service Description: To support coastal and ocean planning and other activities pursuant to the Coastal Zone Management Act, Energy Policy Act, Magnuson-Stevens Fishery Conservation and Management Act, National Environmental Policy Act, Rivers and Harbors Act and the Submerged Lands Act.
Map Name: Montauk to Nantucket Shoals Bathymetry
Legend
All Layers and Tables
Layers:
Description: To support coastal and ocean planning and other activities pursuant to the Coastal Zone Management Act, Energy Policy Act, Magnuson-Stevens Fishery Conservation and Management Act, National Environmental Policy Act, Rivers and Harbors Act and the Submerged Lands Act.
Copyright Text: NOAA Coastal Services Center, NOAA Office of Coast Survey, U.S. Geological Survey, Commonwealth of Massachusetts
Spatial Reference:
102100
(3857)
Single Fused Map Cache: true
Tile Info:
- Height: 256
- Width: 256
- DPI: 96
-
Levels of Detail: 20
-
Level ID: 0
[ Start Tile, End Tile ]
- Resolution: 156543.03392800014
- Scale: 5.91657527591555E8
-
Level ID: 1
[ Start Tile, End Tile ]
- Resolution: 78271.51696399994
- Scale: 2.95828763795777E8
-
Level ID: 2
[ Start Tile, End Tile ]
- Resolution: 39135.75848200009
- Scale: 1.47914381897889E8
-
Level ID: 3
[ Start Tile, End Tile ]
- Resolution: 19567.87924099992
- Scale: 7.3957190948944E7
-
Level ID: 4
[ Start Tile, End Tile ]
- Resolution: 9783.93962049996
- Scale: 3.6978595474472E7
-
Level ID: 5
[ Start Tile, End Tile ]
- Resolution: 4891.96981024998
- Scale: 1.8489297737236E7
- Format: MIXED
- Compression Quality: 75.0
- Origin:
X: -2.0037508342787E7
Y: 2.0037508342787E7
- Spatial Reference:
102100
(3857)
Initial Extent:
XMin: -7952504.304089044
YMin: 5027445.756141882
XMax: -7848428.090133037
YMax: 5118437.821526053
Spatial Reference:
102100
Full Extent:
XMin: -8023199.003143122
YMin: 4896010.39282683
XMax: -7681041.809076021
YMax: 5138417.931604936
Spatial Reference:
102100
Units: esriMeters
Supported Image Format Types: PNG32,PNG24,PNG,JPG,DIB,TIFF,EMF,PS,PDF,GIF,SVG,SVGZ,BMP
Document Info:
Title: Montauk to Nantucket Shoals Bathymetry
Author: Daniel R. Martin
Comments: To support coastal and ocean planning and other activities pursuant to the Coastal Zone Management Act, Energy Policy Act, Magnuson-Stevens Fishery Conservation and Management Act, National Environmental Policy Act, Rivers and Harbors Act and the Submerged Lands Act.
Subject: Original source material available at http://surveys.ngdc.noaa.gov/mgg/NOS/coast/ and http://woodshole.er.usgs.gov/operations/ia/
Category:
Keywords: Oceans,Bathymetry,Elevation,New York,Rhode Island,Massachusetts,Atlantic
AntialiasingMode: None
TextAntialiasingMode: Force
Supports Dynamic Layers: false
MaxRecordCount: 1000
MaxImageHeight: 4096
MaxImageWidth: 4096
Supported Query Formats: JSON, AMF, geoJSON
Min Scale: 577790.554289
Max Scale: 36111.909643
Child Resources:
Info
Supported Operations:
Export Map
Identify
Find
Return Updates
Generate KML