View In:
ArcGIS JavaScript
ArcGIS Online map viewer
Google Earth
ArcMap
ArcGIS Explorer
View Footprint In:
ArcGIS Online map viewer
Service Description: Gulf of Maine 3 arc second product from USGS (2013)
Map Name: Layers
Legend
All Layers and Tables
Layers:
Description:
Copyright Text: USGS
Spatial Reference:
102100
(3857)
Single Fused Map Cache: true
Tile Info:
- Height: 256
- Width: 256
- DPI: 96
-
Levels of Detail: 20
-
Level ID: 0
[ Start Tile, End Tile ]
- Resolution: 156543.03392800014
- Scale: 5.91657527591555E8
-
Level ID: 1
[ Start Tile, End Tile ]
- Resolution: 78271.51696399994
- Scale: 2.95828763795777E8
-
Level ID: 2
[ Start Tile, End Tile ]
- Resolution: 39135.75848200009
- Scale: 1.47914381897889E8
-
Level ID: 3
[ Start Tile, End Tile ]
- Resolution: 19567.87924099992
- Scale: 7.3957190948944E7
-
Level ID: 4
[ Start Tile, End Tile ]
- Resolution: 9783.93962049996
- Scale: 3.6978595474472E7
-
Level ID: 5
[ Start Tile, End Tile ]
- Resolution: 4891.96981024998
- Scale: 1.8489297737236E7
- Format: MIXED
- Compression Quality: 75.0
- Origin:
X: -2.0037508342787E7
Y: 2.0037508342787E7
- Spatial Reference:
102100
(3857)
Initial Extent:
XMin: -7777529.313368943
YMin: 5138666.743565092
XMax: -7194942.176962969
YMax: 5841461.967668008
Spatial Reference:
102100
Full Extent:
XMin: -7959389.047178335
YMin: 4793547.458971207
XMax: -7013082.443153579
YMax: 5780414.656050577
Spatial Reference:
102100
Units: esriMeters
Supported Image Format Types: PNG32,PNG24,PNG,JPG,DIB,TIFF,EMF,PS,PDF,GIF,SVG,SVGZ,BMP
Document Info:
Title: Gulf of Maine 3 arc second product from USGS (2013)
Author: Northeast Ocean Data
Comments: Gulf of Maine 3 arc second product from USGS (2013)
Subject: Gulf of Maine 3 arc second product from USGS (2013)
Category:
Keywords: bathymetry
AntialiasingMode: None
TextAntialiasingMode: Force
Supports Dynamic Layers: false
MaxRecordCount: 1000
MaxImageHeight: 4096
MaxImageWidth: 4096
Supported Query Formats: JSON, AMF, geoJSON
Min Scale: 4622324.434309
Max Scale: 288895.277144
Child Resources:
Info
Supported Operations:
Export Map
Identify
Find
Return Updates
Generate KML