View In:
ArcGIS JavaScript
ArcGIS Online map viewer
Google Earth
ArcMap
ArcGIS Explorer
View Footprint In:
ArcGIS Online map viewer
Service Description: Shows watershed boundaries for hydrologic unit codes (HUCs) at 6, 8, 10, and 12 digit levels. The WBD data are provided for 17 6-digit HUCs in the northeast and were obtained form the Natural Resources Conservation Service (NRCS).
Map Name: Layers
Legend
All Layers and Tables
Layers:
Description:
Copyright Text: NRCS
Spatial Reference:
102100
(3857)
Single Fused Map Cache: true
Tile Info:
- Height: 256
- Width: 256
- DPI: 96
-
Levels of Detail: 20
-
Level ID: 0
[ Start Tile, End Tile ]
- Resolution: 156543.03392800014
- Scale: 5.91657527591555E8
-
Level ID: 1
[ Start Tile, End Tile ]
- Resolution: 78271.51696399994
- Scale: 2.95828763795777E8
-
Level ID: 2
[ Start Tile, End Tile ]
- Resolution: 39135.75848200009
- Scale: 1.47914381897889E8
-
Level ID: 3
[ Start Tile, End Tile ]
- Resolution: 19567.87924099992
- Scale: 7.3957190948944E7
-
Level ID: 4
[ Start Tile, End Tile ]
- Resolution: 9783.93962049996
- Scale: 3.6978595474472E7
-
Level ID: 5
[ Start Tile, End Tile ]
- Resolution: 4891.96981024998
- Scale: 1.8489297737236E7
- Format: MIXED
- Compression Quality: 75.0
- Origin:
X: -2.0037508342787E7
Y: 2.0037508342787E7
- Spatial Reference:
102100
(3857)
Initial Extent:
XMin: -8464403.930282285
YMin: 5236702.678600454
XMax: -7201052.845488443
YMax: 5895895.54859453
Spatial Reference:
102100
Full Extent:
XMin: -8412640.561836148
YMin: 4892793.929218359
XMax: -7349173.275617513
YMax: 6123458.722317639
Spatial Reference:
102100
Units: esriMeters
Supported Image Format Types: PNG32,PNG24,PNG,JPG,DIB,TIFF,EMF,PS,PDF,GIF,SVG,SVGZ,BMP
Document Info:
Title: Watershed Boundary Datasets (WBD)
Author:
Comments: Shows watershed boundaries for hydrologic unit codes (HUCs) at 6, 8, 10, and 12 digit levels. The WBD data are provided for 17 6-digit HUCs in the northeast and were obtained form the Natural Resources Conservation Service (NRCS).
Subject: Shows watershed boundaries for hydrologic unit codes (HUCs) at the 6, 8, 10, and 12 digit level in the northeastern U.S.
Category:
Keywords: watersheds
AntialiasingMode: None
TextAntialiasingMode: Force
Supports Dynamic Layers: false
MaxRecordCount: 1000
MaxImageHeight: 4096
MaxImageWidth: 4096
Supported Query Formats: JSON, AMF, geoJSON
Min Scale: 4622324.434309
Max Scale: 144447.638572
Child Resources:
Info
Supported Operations:
Export Map
Identify
Find
Return Updates
Generate KML