View In:
ArcGIS JavaScript
ArcGIS Online map viewer
Google Earth
ArcMap
View Footprint In:
ArcGIS Online map viewer
Service Description: These layers represent data from 271 satellite tags deployed on large juvenile and adult loggerheads in the northwest Atlantic by 6 tagging programs between 2004 and 2016. Mixed effect models were used to map spatial variation in the relative density of tagged loggerheads over the course of the year. To do this, daily weighted location estimates were binned by month and aggregated over a 40 km resolution version of the Atlantic Marine Assessment Program for Protected Species (AMAPPS) spatial grid. The data products focus on the area with the highest track densities (i.e., between 25.0° and 41.5° N, 81.5° and 65.0° W), even though some individuals ventured further north or into the Gulf of Mexico. The high density areas shown in these data products are based on over 10 years of satellite tagging data, and represent the relative distribution of tagged loggerheads that may be expected on average in a given month.
Name: LoggerheadSeaTurtleDensity2
Description: These layers represent data from 271 satellite tags deployed on large juvenile and adult loggerheads in the northwest Atlantic by 6 tagging programs between 2004 and 2016. Mixed effect models were used to map spatial variation in the relative density of tagged loggerheads over the course of the year. To do this, daily weighted location estimates were binned by month and aggregated over a 40 km resolution version of the Atlantic Marine Assessment Program for Protected Species (AMAPPS) spatial grid. The data products focus on the area with the highest track densities (i.e., between 25.0° and 41.5° N, 81.5° and 65.0° W), even though some individuals ventured further north or into the Gulf of Mexico. The high density areas shown in these data products are based on over 10 years of satellite tagging data, and represent the relative distribution of tagged loggerheads that may be expected on average in a given month.
Single Fused Map Cache: false
Extent:
XMin: 1.0925123510899998E7
YMin: 2872827.6662999988
XMax: 1.3045123510899998E7
YMax: 5136827.666299999
Spatial Reference:
PROJCS["WGS_1984_Web_Mercator_Auxiliary_Sphere",GEOGCS["GCS_WGS_1984",DATUM["D_WGS_1984",SPHEROID["WGS_1984",6378137.0,298.257223563]],PRIMEM["Greenwich",0.0],UNIT["Degree",0.0174532925199433]],PROJECTION["Mercator_Auxiliary_Sphere"],PARAMETER["False_Easting",0.0],PARAMETER["False_Northing",0.0],PARAMETER["Central_Meridian",180.0],PARAMETER["Standard_Parallel_1",0.0],PARAMETER["Auxiliary_Sphere_Type",0.0],UNIT["Meter",1.0]]
Initial Extent:
XMin: 1.0925123510899998E7
YMin: 2872827.6662999988
XMax: 1.3045123510899998E7
YMax: 5136827.666299999
Spatial Reference:
PROJCS["WGS_1984_Web_Mercator_Auxiliary_Sphere",GEOGCS["GCS_WGS_1984",DATUM["D_WGS_1984",SPHEROID["WGS_1984",6378137.0,298.257223563]],PRIMEM["Greenwich",0.0],UNIT["Degree",0.0174532925199433]],PROJECTION["Mercator_Auxiliary_Sphere"],PARAMETER["False_Easting",0.0],PARAMETER["False_Northing",0.0],PARAMETER["Central_Meridian",180.0],PARAMETER["Standard_Parallel_1",0.0],PARAMETER["Auxiliary_Sphere_Type",0.0],UNIT["Meter",1.0]]
Full Extent:
XMin: 1.0925123510899998E7
YMin: 2872827.6662999988
XMax: 1.3045123510899998E7
YMax: 5136827.666299999
Spatial Reference:
PROJCS["WGS_1984_Web_Mercator_Auxiliary_Sphere",GEOGCS["GCS_WGS_1984",DATUM["D_WGS_1984",SPHEROID["WGS_1984",6378137.0,298.257223563]],PRIMEM["Greenwich",0.0],UNIT["Degree",0.0174532925199433]],PROJECTION["Mercator_Auxiliary_Sphere"],PARAMETER["False_Easting",0.0],PARAMETER["False_Northing",0.0],PARAMETER["Central_Meridian",180.0],PARAMETER["Standard_Parallel_1",0.0],PARAMETER["Auxiliary_Sphere_Type",0.0],UNIT["Meter",1.0]]
Time Info:
Start Time Field: Date
End Time Field: Date
Time Extent:
[2018/12/01 00:00:00 UTC, 2019/12/02 00:00:00 UTC]
Time Reference:
N/A
Pixel Size X: 4000.0
Pixel Size Y: 4000.0
Band Count: 1
Pixel Type: F32
RasterFunction Infos: {"name":"LoggerheadSeaTurtleDensity","description":"A raster function template.","help":""}, {"name":"LoggerheadSeaTurtleDensity","description":"A raster function template.","help":""}, {"name":"None","description":"A No-Op Function.","help":""}
Mensuration Capabilities: Basic
Has Histograms: true
Has Colormap: false
Has Multi Dimensions : false
Rendering Rule:
Min Scale: 0
Max Scale: 0
Copyright Text:
Service Data Type: esriImageServiceDataTypeGeneric
Min Values: -18.68498992919922
Max Values: -2.055115222930908
Mean Values: -14.463997984010206
Standard Deviation Values: 3.8956518396333415
Object ID Field: OBJECTID
Fields:
-
OBJECTID
(
type: esriFieldTypeOID
,
alias: OBJECTID
)
-
Shape
(
type: esriFieldTypeGeometry
,
alias: Shape
)
-
Name
(
type: esriFieldTypeString
,
alias: Name
,
length: 200
)
-
MinPS
(
type: esriFieldTypeDouble
,
alias: MinPS
)
-
MaxPS
(
type: esriFieldTypeDouble
,
alias: MaxPS
)
-
LowPS
(
type: esriFieldTypeDouble
,
alias: LowPS
)
-
HighPS
(
type: esriFieldTypeDouble
,
alias: HighPS
)
-
Category
(
type: esriFieldTypeInteger
,
alias: Category
,
Coded Values:
[0: Unknown]
,
[1: Primary]
,
[2: Overview]
, ...5 more...
)
-
Tag
(
type: esriFieldTypeString
,
alias: Tag
,
length: 100
)
-
GroupName
(
type: esriFieldTypeString
,
alias: GroupName
,
length: 100
)
-
ProductName
(
type: esriFieldTypeString
,
alias: ProductName
,
length: 100
)
-
CenterX
(
type: esriFieldTypeDouble
,
alias: CenterX
)
-
CenterY
(
type: esriFieldTypeDouble
,
alias: CenterY
)
-
ZOrder
(
type: esriFieldTypeInteger
,
alias: ZOrder
)
-
Shape_Length
(
type: esriFieldTypeDouble
,
alias: Shape_Length
)
-
Shape_Area
(
type: esriFieldTypeDouble
,
alias: Shape_Area
)
-
Date
(
type: esriFieldTypeDate
,
alias: Date
,
length: 8
)
Default Mosaic Method: Northwest
Allowed Mosaic Methods: NorthWest,Center,LockRaster,ByAttribute,Nadir,Viewpoint,Seamline,None
SortField:
SortValue: null
Mosaic Operator: First
Default Compression Quality: 75
Default Resampling Method: Bilinear
Max Record Count: 1000
Max Image Height: 4100
Max Image Width: 15000
Max Download Image Count: 20
Max Mosaic Image Count: 20
Allow Raster Function: true
Allow Compute TiePoints: false
Supports Statistics: true
Supports Advanced Queries: true
Use StandardizedQueries: true
Raster Type Infos:
Name: Raster Dataset
Description: Supports all ArcGIS Raster Datasets
Help:
Has Raster Attribute Table: false
Edit Fields Info: null
Ownership Based AccessControl For Rasters: null
Child Resources:
Info
Histograms
Key Properties
Legend
MultiDimensionalInfo
rasterFunctionInfos
Supported Operations:
Export Image
Query
Identify
Measure
Compute Histograms
Compute Statistics Histograms
Get Samples
Compute Class Statistics