View In:
ArcGIS JavaScript
ArcGIS Online map viewer
Google Earth
ArcMap
ArcGIS Explorer
View Footprint In:
ArcGIS Online map viewer
Service Description: This dataset displays a subset of The Nature Conservancy’s 2018 Secured lands (publicly downloadable external version) dataset and shows National Wildlife Refuges, Wildlife Managed Areas within a 10 kilometer buffer of the Northeast United States (Maine to New York) shoreline: The complete version of the secured lands dataset can be found at
http://nature.ly/securedareas along with a detailed report, and additional information. The secured lands dataset shows public lands, private lands and waters secured by a conservation situation that includes an explicit level of security from future conversion and current incompatible uses. The Nature Conservancy’s secured land dataset strives to include all permanently protected lands in the eastern 18 U.S. states and is compiled annually from over sixty sources. For the most part, it is a combination of public land information maintained by each state, and private conservation land information compiled by the Nature Conservancy’s state field offices. Please see metadata for more information. ** Please be advised that not all sites found in The Nature Conservancy’s secured lands dataset and the dataset provided on the Northeast Ocean Data Portal are publically accessible.
Map Name: Layers
Legend
All Layers and Tables
Layers:
Description:
Copyright Text: TNC
Spatial Reference:
102100
(3857)
Single Fused Map Cache: true
Tile Info:
- Height: 256
- Width: 256
- DPI: 96
-
Levels of Detail: 20
-
Level ID: 0
[ Start Tile, End Tile ]
- Resolution: 156543.03392800014
- Scale: 5.91657527591555E8
-
Level ID: 1
[ Start Tile, End Tile ]
- Resolution: 78271.51696399994
- Scale: 2.95828763795777E8
-
Level ID: 2
[ Start Tile, End Tile ]
- Resolution: 39135.75848200009
- Scale: 1.47914381897889E8
-
Level ID: 3
[ Start Tile, End Tile ]
- Resolution: 19567.87924099992
- Scale: 7.3957190948944E7
-
Level ID: 4
[ Start Tile, End Tile ]
- Resolution: 9783.93962049996
- Scale: 3.6978595474472E7
-
Level ID: 5
[ Start Tile, End Tile ]
- Resolution: 4891.96981024998
- Scale: 1.8489297737236E7
- Format: PNG
- Compression Quality: 0.0
- Origin:
X: -2.0037508342787E7
Y: 2.0037508342787E7
- Spatial Reference:
102100
(3857)
Initial Extent:
XMin: -8564955.472299995
YMin: 5143368.175124011
XMax: -7050477.4433439365
YMax: 6003794.895977453
Spatial Reference:
102100
Full Extent:
XMin: -8259821.0035
YMin: 4902707.328500003
XMax: -7452327.1766
YMax: 5789008.585699998
Spatial Reference:
102100
Units: esriMeters
Supported Image Format Types: PNG32,PNG24,PNG,JPG,DIB,TIFF,EMF,PS,PDF,GIF,SVG,SVGZ,BMP
Document Info:
Title:
Author:
Comments: This dataset displays a subset of The Nature Conservancy’s 2018 Secured lands (publicly downloadable external version) dataset and shows National Wildlife Refuges, Wildlife Managed Areas within a 10 kilometer buffer of the Northeast United States (Maine to New York) shoreline: The complete version of the secured lands dataset can be found at http://nature.ly/securedareas along with a detailed report, and additional information. The secured lands dataset shows public lands, private lands and waters secured by a conservation situation that includes an explicit level of security from future conversion and current incompatible uses. The Nature Conservancy’s secured land dataset strives to include all permanently protected lands in the eastern 18 U.S. states and is compiled annually from over sixty sources. For the most part, it is a combination of public land information maintained by each state, and private conservation land information compiled by the Nature Conservancy’s state field offices. Please see metadata for more information. ** Please be advised that not all sites found in The Nature Conservancy’s secured lands dataset and the dataset provided on the Northeast Ocean Data Portal are publically accessible.
Subject: The basemap layer contains property information from The Nature Conservancy’s 201 Secured Lands (public version) dataset and includes the following types of lands within a 10 kilometer shoreline buffer of the northeastern United States
Category:
Keywords:
AntialiasingMode: None
TextAntialiasingMode: Force
Supports Dynamic Layers: false
MaxRecordCount: 1000
MaxImageHeight: 4096
MaxImageWidth: 4096
Supported Query Formats: JSON, AMF, geoJSON
Min Scale: 4622324.434309
Max Scale: 36111.909643
Child Resources:
Info
Supported Operations:
Export Map
Identify
Find
Return Updates
Generate KML